BEGIN:VCALENDAR
VERSION:2.0
PRODID:-//InvisionCommunity Events 5.0.18//EN
METHOD:PUBLISH
CALSCALE:GREGORIAN
REFRESH-INTERVAL:PT15M
X-PUBLISHED-TTL:PT15M
X-WR-CALNAME:Community Calendar
NAME:Community Calendar
BEGIN:VTIMEZONE
TZID:Europe/London
TZURL:https://tzurl.org/zoneinfo/Europe/London
X-LIC-LOCATION:Europe/London
BEGIN:DAYLIGHT
TZOFFSETFROM:+0000
TZOFFSETTO:+0100
TZNAME:BST
DTSTART:20230326T020000Z
RRULE:FREQ=YEARLY;BYMONTH=3;BYDAY=-1SU
END:DAYLIGHT
BEGIN:STANDARD
TZOFFSETFROM:+0100
TZOFFSETTO:+0000
TZNAME:GMT
DTSTART:20231029T020000Z
RRULE:FREQ=YEARLY;BYMONTH=10;BYDAY=-1SU
END:STANDARD
END:VTIMEZONE
BEGIN:VEVENT
SUMMARY:StarfieldGame Q&A
DTSTAMP:20230811T204308Z
SEQUENCE:0
UID:303-4-711db33c40d8be74060651cb2cc74e64@the-armory.net
ORGANIZER;CN="Gator":info@the-armory.net
DESCRIPTION:\n	Join Will Shen (Lead Quest Designer) and Emil Pagliarulo 
	(Lead Game Designer) for a @StarfieldGame Q&amp\;A in our official Discord
	 server on August 16.\n\n\n\n	To take part\, sign up at JoinConstellation.
	com and head to discord.gg/BethesdaStudios.\n\n\n\n	Once you have access t
	o the Constellation Discord channels\, ask your #Starfield questions in th
	e post in #constellation-questions by August 11 for a chance of having the
	m answered!\n\n
DTSTART:20230816T170000Z
END:VEVENT
BEGIN:VEVENT
SUMMARY:Star Citizen Free Fly Event
DTSTAMP:20230706T162443Z
SEQUENCE:0
UID:302-4-711db33c40d8be74060651cb2cc74e64@the-armory.net
ORGANIZER;CN="Gator":info@the-armory.net
DESCRIPTION:\n	\n		 \n	\n\n	\n		\n			Foundation Festival - Roberts Space
	 Industries | Follow the development of Star Citizen and Squadron 42 \n		\
	n\n		\n			ROBERTSSPACEINDUSTRIES.COM\n		\n\n		\n		\n			Roberts Space Indus
	tries is the official go-to website for all news about Star Citizen and Sq
	uadron 42. It also hosts the online store for game items and merch\, as we
	ll as all the community tools used by our fans.\n		\n	\n\n\n\n	 \n\n
DTSTART:20230706T040000Z
DTEND:20230717T040000Z
RRULE:FREQ=MONTHLY;INTERVAL=1;UNTIL=20230717T000000
END:VEVENT
BEGIN:VEVENT
SUMMARY:Starfield Release Day
DTSTAMP:20230526T181539Z
SEQUENCE:0
UID:2-4-711db33c40d8be74060651cb2cc74e64@the-armory.net
ORGANIZER;CN="Gator":info@the-armory.net
DESCRIPTION:\n	The Long awaited Starfield game from Bethesda Softworks w
	ill release on this day.\n\n\n\n	\n		\n	\n\n\n\n	 \n\n
DTSTART;VALUE=DATE:20230906
END:VEVENT
BEGIN:VEVENT
SUMMARY:Battlefield 2042 | Season 5
DTSTAMP:20230526T183901Z
SEQUENCE:0
UID:3-4-711db33c40d8be74060651cb2cc74e64@the-armory.net
ORGANIZER;CN="Gator":info@the-armory.net
DESCRIPTION:\n	Battlefield 2042 | Season 5: New Dawn releases this day\n
	\n\n\n	\n		\n	\n\n\n\n	 \n\n
DTSTART;VALUE=DATE:20230607
END:VEVENT
BEGIN:VEVENT
SUMMARY:Starfield Direct Presentation
DTSTAMP:20230526T180921Z
SEQUENCE:0
UID:1-4-711db33c40d8be74060651cb2cc74e64@the-armory.net
ORGANIZER;CN="Gator":info@the-armory.net
DESCRIPTION:\n	Starfield Direct will showcase the game Starfield giving 
	many details of the upcoming game.\n\n\n\n	More information of the event c
	an be found here:\n\n\n\n	\n		 \n	\n\n	\n		\n			Get Ready for the Xbox Gam
	es Showcase and Starfield Direct Double Feature Airing June 11 - Xbox Wire
	\n		\n\n		\n			NEWS.XBOX.COM\n		\n\n		\n		\n			We’re delighted to announ
	ce that the Xbox Games Showcase will be livestreamed on June 11. Immediate
	ly after the Showcase\, we’ll be airing Starfield Direct\, a deep-dive i
	nto Bethesda Game Studios’ highly... \n		\n	\n\n\n\n	\n		\n	\n\n\n\n	 \
	n\n
DTSTART;VALUE=DATE:20230611
END:VEVENT
END:VCALENDAR
