BEGIN:VCALENDAR
VERSION:2.0
PRODID:-//InvisionCommunity Events 5.0.18//EN
METHOD:PUBLISH
CALSCALE:GREGORIAN
REFRESH-INTERVAL:PT15M
X-PUBLISHED-TTL:PT15M
X-WR-CALNAME:SciFi Shows
NAME:SciFi Shows
BEGIN:VTIMEZONE
TZID:Europe/London
TZURL:https://tzurl.org/zoneinfo/Europe/London
X-LIC-LOCATION:Europe/London
BEGIN:DAYLIGHT
TZOFFSETFROM:+0000
TZOFFSETTO:+0100
TZNAME:BST
DTSTART:20240331T020000Z
RRULE:FREQ=YEARLY;BYMONTH=3;BYDAY=-1SU
END:DAYLIGHT
BEGIN:STANDARD
TZOFFSETFROM:+0100
TZOFFSETTO:+0000
TZNAME:GMT
DTSTART:20241027T020000Z
RRULE:FREQ=YEARLY;BYMONTH=10;BYDAY=-1SU
END:STANDARD
END:VTIMEZONE
BEGIN:VTIMEZONE
TZID:Europe/London
TZURL:https://tzurl.org/zoneinfo/Europe/London
X-LIC-LOCATION:Europe/London
BEGIN:DAYLIGHT
TZOFFSETFROM:+0000
TZOFFSETTO:+0100
TZNAME:BST
DTSTART:20230326T020000Z
RRULE:FREQ=YEARLY;BYMONTH=3;BYDAY=-1SU
END:DAYLIGHT
BEGIN:STANDARD
TZOFFSETFROM:+0100
TZOFFSETTO:+0000
TZNAME:GMT
DTSTART:20231029T020000Z
RRULE:FREQ=YEARLY;BYMONTH=10;BYDAY=-1SU
END:STANDARD
END:VTIMEZONE
BEGIN:VEVENT
SUMMARY:Star Trek: Discovery Final Season Starts
DTSTAMP:20240223T235047Z
SEQUENCE:0
UID:339-5-711db33c40d8be74060651cb2cc74e64@the-armory.net
ORGANIZER;CN="Gator":info@the-armory.net
DESCRIPTION:\n	\n		\n	\n\n\n\n	 \n\n
DTSTART:20240404T040000Z
END:VEVENT
BEGIN:VEVENT
SUMMARY:Foundation S2 (Apple TV+)
DTSTAMP:20230623T072925Z
SEQUENCE:0
UID:301-5-711db33c40d8be74060651cb2cc74e64@the-armory.net
ORGANIZER;CN="Gator":info@the-armory.net
DESCRIPTION:\n	Foundation — Season 2 Official Trailer | Apple TV+ Rele
	ase on this date\n\n\n\n	\n		 \n	\n\n	\n		\n			 Watch Foundation | Apple T
	V+\n		\n\n		\n			TV.APPLE.COM\n		\n\n		\n		\n			Based on the award-winning
	 novels by Isaac Asimov\, Foundation chronicles a band of exiles on their 
	monumental journey to save humanity and rebuild civ…\n		\n	\n\n\n\n	 \n
	\n
DTSTART;VALUE=DATE:20230714
END:VEVENT
BEGIN:VEVENT
SUMMARY:The Witcher S3 (Netflix)
DTSTAMP:20230530T031104Z
SEQUENCE:0
UID:117-5-711db33c40d8be74060651cb2cc74e64@the-armory.net
ORGANIZER;CN="Gator":info@the-armory.net
DESCRIPTION:\n	The Witcher Season 3 begins on Netflix\n\n\n\n	\n		\n	\n\
	n\n\n	 \n\n
DTSTART;VALUE=DATE:20230629
END:VEVENT
BEGIN:VEVENT
SUMMARY:Star Trek: Strange New Worlds Season 2 premiere (Paramount+)
DTSTAMP:20230606T003502Z
SEQUENCE:0
UID:194-5-711db33c40d8be74060651cb2cc74e64@the-armory.net
ORGANIZER;CN="Gator":info@the-armory.net
DESCRIPTION:\n	Star Trek: Strange New Worlds Season 2 premieres on Param
	ount+ this day\, June 15 2023\n\n\n\n	\n\n\n\n	\n		\n	\n\n\n\n	 \n\n
DTSTART:20230615T040000Z
END:VEVENT
END:VCALENDAR
